BEGIN:VCALENDAR
VERSION:2.0
PRODID:-//furry.nz//events//EN
BEGIN:VEVENT
SUMMARY:FurcoNZ Hotel 2025
DTSTART;VALUE=DATE:20251121
DTEND;VALUE=DATE:20251124
UID:event-18@furry.nz
DESCRIPTION:After a fantastic first year in 2024\, we are returning to the
  Holiday Inn Auckland Airport for Year 2 of our Hotel con! November 21st -
  23rd\, from Friday evening to Sunday night.\nWith an awesome line up of p
 anels and activities\, it’s going to be a very exciting year. We’re lo
 oking forward to releasing more and more details over the coming months!\n
 Registration opens April 12th (or 10th if you want to snag our exclusive S
 upersponsor slots) so get in quick! You can pre-register from April 10th t
 o save time once registration opens.\nPlease note that due to regulations\
 , this is an 18+ event. FurcoNZ Camp and FurKiNZ remain accessible for tho
 se under 18.\n
LOCATION:Holiday Inn Auckland Airport
URL:https://furry.nz/events/2025/furconz-hotel-2025/
END:VEVENT
END:VCALENDAR
